BEGIN:VCALENDAR
VERSION:2.0
PRODID:-//hacksw/handcal//NONSGML v1.0//EN
BEGIN:VEVENT
SUMMARY:Coupe JP Retourne
UID:10fb994d-1966-4e24-a892-5edea67e9000
DTSTART:20260329T070000Z
DTEND:20260329T230000Z
LOCATION:Localisation   
CATEGORIES:Sportif
STATUS:
URL;VALUE=URI:https://www.judo-velizy.com/evenements/2026/03/29/coupe-jp-retourne-2434957
END:VEVENT
END:VCALENDAR
